BEGIN:VCALENDAR
VERSION:2.0
PRODID:-//DRNA - ECPv6.15.20//NONSGML v1.0//EN
CALSCALE:GREGORIAN
METHOD:PUBLISH
X-WR-CALNAME:DRNA
X-ORIGINAL-URL:https://www.drna.pr.gov
X-WR-CALDESC:Events for DRNA
REFRESH-INTERVAL;VALUE=DURATION:PT1H
X-Robots-Tag:noindex
X-PUBLISHED-TTL:PT1H
BEGIN:VTIMEZONE
TZID:America/Puerto_Rico
BEGIN:STANDARD
TZOFFSETFROM:-0400
TZOFFSETTO:-0400
TZNAME:AST
DTSTART:20160101T000000
END:STANDARD
END:VTIMEZONE
BEGIN:VEVENT
DTSTART;TZID=America/Puerto_Rico:20170401T100000
DTEND;TZID=America/Puerto_Rico:20170401T150000
DTSTAMP:20260424T085546
CREATED:20170328T133457Z
LAST-MODIFIED:20170328T204650Z
UID:40607-1491040800-1491058800@www.drna.pr.gov
SUMMARY:Gobierno En Tu Pueblo
DESCRIPTION:[gview file=»http://drna.pr.gov/wp-content/uploads/2017/03/Gobiernotupueblo-PROMO-FINAL-28-marzo-2017.pdf»]
URL:https://www.drna.pr.gov/evento/gobierno-en-tu-pueblo/
LOCATION:Paseo Portuario\, Avenida Las Nereidas\, Cataño\, Puerto Rico
END:VEVENT
END:VCALENDAR