BEGIN:VCALENDAR
PRODID:-//AT Content Types//AT Event//EN
VERSION:2.0
METHOD:PUBLISH
BEGIN:VEVENT
DTSTAMP:20211009T195116Z
CREATED:20070822T142928Z
UID:ATEvent-098942263d442eb8da77c8fc407cc019
LAST-MODIFIED:20070822T143025Z
SUMMARY:XXVI Simposio de Recursos Naturales
DTSTART:20071024T080000Z
DTEND:20071025T050000Z
DESCRIPTION:El Departamento de Recursos Naturales y Ambientales estarĂ
 ˇ celebrando el VigĂ©simo Sexto Simposio de los Recursos Naturales\, l
 os dĂ­as 24 y 25 de octubre de 2007 en el Nuevo Centro de Convenciones
  de Puerto Rico.
LOCATION:Nuevo Centro de Convenciones de Puerto Rico
CATEGORIES:XXVI Simposio de Recursos Naturales
CONTACT:Celeste Cordero\, 787-999-2200\, ext. 2110\, ccordero@drna.gobierno.pr
CLASS:PUBLIC
END:VEVENT
END:VCALENDAR
